BEGIN:VCALENDAR
VERSION:2.0
PRODID:-//wp-events-plugin.com//7.0.5//EN
BEGIN:VEVENT
UID:394@claudia-neumann.com
DTSTART;TZID=Europe/Berlin:20251112T173000
DTEND;TZID=Europe/Berlin:20251112T183000
DTSTAMP:20251116T195921Z
URL:https://www.claudia-neumann.com/events/after-work-pilates-2025-11-12/
SUMMARY:After Work Pilates
DESCRIPTION:Pilates – Stärke deinen Körper von innen heraus\nErlebe ein
  ganzheitliches Training\, das Körper und Geist in Einklang bringt. In me
 inem Pilates-Kurs steht die kontrollierte\, präzise und bewusste Bewegung
  im Mittelpunkt. Durch gezielte Übungen kräftigst du deine Tiefenmuskula
 tur\, verbesserst deine Körperhaltung und steigerst deine Beweglichkeit.\
 n\nWas dich im Kurs erwartet\n\n 	Kräftigung der Tiefenmuskulatur für ei
 nen starken\, stabilen Rumpf\n 	Verbesserung der Beweglichkeit durch flie
 ßende\, kontrollierte Bewegungen\n 	Förderung der Körperhaltung und ein
 es natürlichen\, gesunden Bewegungsablaufs\n 	Stressreduktion und Entspan
 nung durch bewusste Atmung und achtsames Training\n 	Sanftes\, aber effekt
 ives Ganzkörpertraining\, geeignet für jedes Fitnesslevel\n\nFür wen ei
 gnet sich Pilates?\nPilates ist ideal für Einsteiger und Fortgeschrittene
 \, für alle Altersgruppen und Fitnesslevel. Egal ob du Beschwerden vorbeu
 gen\, Rückenproblemen entgegenwirken oder einfach etwas für dein Wohlbef
 inden tun möchtest – Pilates bringt dich in Balance.
CATEGORIES:Pilates
LOCATION:Dance Station\, Humboldtstrasse 29\, München\, Bavaria\, 81543\, 
 Deutschland
X-APPLE-STRUCTURED-LOCATION;VALUE=URI;X-ADDRESS=Humboldtstrasse 29\, Münch
 en\, Bavaria\, 81543\, Deutschland;X-APPLE-RADIUS=100;X-TITLE=Dance Statio
 n:geo:0,0
END:VEVENT
BEGIN:VTIMEZONE
TZID:Europe/Berlin
X-LIC-LOCATION:Europe/Berlin
BEGIN:STANDARD
DTSTART:20251026T020000
TZOFFSETFROM:+0200
TZOFFSETTO:+0100
TZNAME:CET
END:STANDARD
END:VTIMEZONE
END:VCALENDAR