BEGIN:VCALENDAR
VERSION:2.0
PRODID:-//wp-events-plugin.com//7.0.5//EN
BEGIN:VEVENT
UID:385@claudia-neumann.com
DTSTART;TZID=Europe/Berlin;VALUE=DATE:20260923
DTEND;TZID=Europe/Berlin;VALUE=DATE:20260928
DTSTAMP:20251116T192159Z
URL:https://www.claudia-neumann.com/events/ayurveda-retreat-im-allgaeu-2/
SUMMARY:Ayurveda Retreat im Allgäu
DESCRIPTION:Ein unvergessliches Retreat mit allem Komfort\, den du dir wün
 schst:\n\n 	Magischer Ayurveda Hof\, eingebettet in Berge und Alpwiesen\n 
 	Gourmet-Verpflegung – Das Team des Ayurveda Hofes verwöhnt uns täglic
 h mit frischen\, ayurvedischen Speisen in Bio-Qualität (Brunch &amp\; Din
 ner)\n 	Tägliches Wohlfühlprogramm – Yoga\, Meditationen\, Breathwork\
 , Massagen\, Sauna &amp\; Wanderungen\n\nLerne mehr über die traditionell
 e Heilkunst des Ayurveda\, dein Dosha und wie du gesunde Routinen in deine
 m Alltag integrieren kannst.\n\nDas gesamte Programm mit der Preisliste fi
 ndest du hier.\n\nBist du bereit für deine Auszeit in den Bergen?
ATTACH;FMTTYPE=image/jpeg:https://www.claudia-neumann.com/wp-content/uploa
 ds/2025/06/Yoga-draussen-klein.png
CATEGORIES:Retreat
LOCATION:Ayurveda Hof Engel\, Hof 1\, Niedersonthofen\, 87448\, Deutschland
X-APPLE-STRUCTURED-LOCATION;VALUE=URI;X-ADDRESS=Hof 1\, Niedersonthofen\, 8
 7448\, Deutschland;X-APPLE-RADIUS=100;X-TITLE=Ayurveda Hof Engel:geo:0,0
END:VEVENT
BEGIN:VTIMEZONE
TZID:Europe/Berlin
X-LIC-LOCATION:Europe/Berlin
BEGIN:DAYLIGHT
DTSTART:20260329T030000
TZOFFSETFROM:+0100
TZOFFSETTO:+0200
TZNAME:CEST
END:DAYLIGHT
END:VTIMEZONE
END:VCALENDAR