BEGIN:VCALENDAR
VERSION:2.0
PRODID:-//wp-events-plugin.com//7.0.5//EN
BEGIN:VEVENT
UID:754@claudia-neumann.com
DTSTART;TZID=Europe/Berlin:20261111T123000
DTEND;TZID=Europe/Berlin:20261111T124500
DTSTAMP:20260422T153652Z
URL:https://www.claudia-neumann.com/events/bewegte-pause-online-2026-04-29
 -2026-05-13-2026-05-27-2026-06-10-2026-06-24-2026-07-08-2026-07-22-2026-08
 -05-2026-08-19-2026-09-02-2026-09-16-2026-09-30-2026-10-14-2026-10-28-2026
 -11-11/
SUMMARY:Bewegte Pause (online)
DESCRIPTION:Die 15-minütige bewegte Pause bringt frische Energie in den Ar
 beitsalltag – einfach\, effektiv und direkt online umsetzbar. In kurzen\
 , aktivierenden Einheiten werden Verspannungen gelöst\, die Durchblutung 
 gefördert und neue Konzentration aufgebaut.\nDie Übungen sind leicht ver
 ständlich\, ohne Umziehen möglich und ideal für Büro oder Homeoffice. 
 Ob als fester Bestandteil des Arbeitstags oder als spontaner Energiekick z
 wischendurch – die bewegte Pause sorgt für mehr Wohlbefinden\, Motivati
 on und Leistungsfähigkeit im Team.\nWenn du einmal dabei sein möchtest\,
  schreib mir gerne für den Zoom-Link.
END:VEVENT
BEGIN:VTIMEZONE
TZID:Europe/Berlin
X-LIC-LOCATION:Europe/Berlin
BEGIN:STANDARD
DTSTART:20261025T020000
TZOFFSETFROM:+0200
TZOFFSETTO:+0100
TZNAME:CET
END:STANDARD
END:VTIMEZONE
END:VCALENDAR