BEGIN:VCALENDAR
VERSION:2.0
PRODID:-//wp-events-plugin.com//7.0.5//EN
BEGIN:VEVENT
UID:699@claudia-neumann.com
DTSTART;TZID=Europe/Berlin:20261116T150000
DTEND;TZID=Europe/Berlin:20261116T153000
DTSTAMP:20260422T153115Z
URL:https://www.claudia-neumann.com/events/business-yoga-online-2026-04-27
 -2026-05-04-2026-05-11-2026-05-18-2026-05-25-2026-06-01-2026-06-08-2026-06
 -15-2026-06-22-2026-06-29-2026-07-06-2026-07-13-2026-07-20-2026-07-27-2026
 -08-03-09-2026-11-16/
SUMMARY:Business Yoga (online)
DESCRIPTION:Business Yoga bringt Bewegung\, Entspannung und neue Energie di
 rekt in den Arbeitsalltag. Durch gezielte Übungen werden Verspannungen ge
 löst\, die Konzentration gesteigert und das allgemeine Wohlbefinden verbe
 ssert. Die Einheiten sind speziell auf die Bedürfnisse von Berufstätigen
  abgestimmt und lassen sich flexibel in den Tagesablauf integrieren – ob
  im Büro oder digital. So unterstützt Business Yoga nicht nur die Gesund
 heit der Mitarbeitenden\, sondern auch Motivation\, Produktivität und ein
  positives Arbeitsklima.\n\nWenn du es einmal ausprobieren möchtest\, sch
 reib mir gerne für den Zoom Link.
CATEGORIES:Yogakurs
END:VEVENT
BEGIN:VTIMEZONE
TZID:Europe/Berlin
X-LIC-LOCATION:Europe/Berlin
BEGIN:STANDARD
DTSTART:20261025T020000
TZOFFSETFROM:+0200
TZOFFSETTO:+0100
TZNAME:CET
END:STANDARD
END:VTIMEZONE
END:VCALENDAR