BEGIN:VCALENDAR
VERSION:2.0
PRODID:-//wp-events-plugin.com//7.0.5//EN
BEGIN:VEVENT
UID:675@claudia-neumann.com
DTSTART;TZID=Europe/Berlin:20260601T150000
DTEND;TZID=Europe/Berlin:20260601T153000
DTSTAMP:20260422T153115Z
URL:https://www.claudia-neumann.com/events/business-yoga-online-2026-04-27
 -2026-05-04-2026-05-11-2026-05-18-2026-05-25-2026-06-01/
SUMMARY:Business Yoga (online)
DESCRIPTION:Business Yoga bringt Bewegung\, Entspannung und neue Energie di
 rekt in den Arbeitsalltag. Durch gezielte Übungen werden Verspannungen ge
 löst\, die Konzentration gesteigert und das allgemeine Wohlbefinden verbe
 ssert. Die Einheiten sind speziell auf die Bedürfnisse von Berufstätigen
  abgestimmt und lassen sich flexibel in den Tagesablauf integrieren – ob
  im Büro oder digital. So unterstützt Business Yoga nicht nur die Gesund
 heit der Mitarbeitenden\, sondern auch Motivation\, Produktivität und ein
  positives Arbeitsklima.\n\nWenn du es einmal ausprobieren möchtest\, sch
 reib mir gerne für den Zoom Link.
CATEGORIES:Yogakurs
END:VEVENT
BEGIN:VTIMEZONE
TZID:Europe/Berlin
X-LIC-LOCATION:Europe/Berlin
BEGIN:DAYLIGHT
DTSTART:20260329T030000
TZOFFSETFROM:+0100
TZOFFSETTO:+0200
TZNAME:CEST
END:DAYLIGHT
END:VTIMEZONE
END:VCALENDAR