BEGIN:VCALENDAR
VERSION:2.0
PRODID:-//wp-events-plugin.com//7.0.5//EN
BEGIN:VEVENT
UID:1@claudia-neumann.com
DTSTART;VALUE=DATE:20250927
DTEND;VALUE=DATE:20251005
DTSTAMP:20250707T133741Z
URL:https://www.claudia-neumann.com/events/community-retreat-mit-lisa-clau
 dia/
SUMMARY:Community-Retreat mit Lisa und Claudia
DESCRIPTION:Buche hier Dein Community-Retreat mit Lisa Mieschke und Claudia
  Neumann vom 27. September bis 4. Oktober 2025 auf einer traditionellen Gu
 let Yacht in der Türkei.
ATTACH;FMTTYPE=image/jpeg:https://www.claudia-neumann.com/wp-content/uploa
 ds/2025/02/WhatsApp-Bild-2025-02-03-um-11.17.13_635e7398.jpg
CATEGORIES:Retreat
END:VEVENT
END:VCALENDAR