BEGIN:VCALENDAR
VERSION:2.0
PRODID:-//wp-events-plugin.com//7.0.5//EN
BEGIN:VEVENT
UID:667@claudia-neumann.com
DTSTART;TZID=Europe/Berlin:20260123T170000
DTEND;TZID=Europe/Berlin:20260123T180000
DTSTAMP:20260122T174519Z
URL:https://www.claudia-neumann.com/events/flow-into-your-weekend/
SUMMARY:Flow (into your weekend)
DESCRIPTION:&nbsp\;\n\nYoga Flow - 60 Min\n\nIn dieser Yoga-Klasse verbinde
 n wir fließende Sequenzen und das bewusste Halten von Asanas mit deinem 
 Atem und schaffen so einen Flow\, der dich ganz ins Hier und Jetzt holt. 
 Jede Stunde steht unter einem bestimmten Fokus - körperlich oder energet
 isch - der die körperliche Praxis inspiriert und vertieft\, somit geht d
 iese Stunde auch über die reine körperliche Praxis hinaus und hilft dir 
 dich auch innerlich auszurichten.\n\nFlow ist perfekt für dich\, wenn du 
 tiefer gehen möchtest: raus aus dem Kopf\, rein ins Spüren– für mehr 
 innere Balance\, neues Körperbewusstsein und Erfahrungen mit dir selbst.\
 n\nBitte mitbringen: Gerne bringe bequeme Kleidung mit und\, wenn du hast
 \, deine eigene Matte. Matten und alle weiteren Hilfsmittel findest Du vor
  Ort.\n\nWir stehen für dich vor Ort ab 15 Minuten vor dem Start der Klas
 se zum Check In bereit. Wir bitten dich bis spätestens fünf Minuten vor 
 dem Start der Stunde da zu sein\, damit wir pünktlich starten können\, d
 ie Lehrerin alle pünktlich einchecken kann und niemand gestört wird. Bit
 te beachte\, dass wir nicht gewährleisten können\, dass jemand\, der zu 
 spät kommt\, noch an der Stunde teilnehmen kann.\n\nhttps://www.eversport
 s.de/activity/21114ba2-cc0c-4841-acba-500fb5d500c8\n\n&nbsp\;
CATEGORIES:Yogakurs
LOCATION:Velvet House\, Eintrachtstraße 8\, München\, 81541\, Deutschland
X-APPLE-STRUCTURED-LOCATION;VALUE=URI;X-ADDRESS=Eintrachtstraße 8\, Münch
 en\, 81541\, Deutschland;X-APPLE-RADIUS=100;X-TITLE=Velvet House:geo:0,0
END:VEVENT
BEGIN:VTIMEZONE
TZID:Europe/Berlin
X-LIC-LOCATION:Europe/Berlin
BEGIN:STANDARD
DTSTART:20251026T020000
TZOFFSETFROM:+0200
TZOFFSETTO:+0100
TZNAME:CET
END:STANDARD
END:VTIMEZONE
END:VCALENDAR