BEGIN:VCALENDAR
VERSION:2.0
PRODID:-//wp-events-plugin.com//7.0.5//EN
BEGIN:VEVENT
UID:386@claudia-neumann.com
DTSTART;TZID=Europe/Berlin:20251123T100000
DTEND;TZID=Europe/Berlin:20251123T160000
DTSTAMP:20251106T095409Z
URL:https://www.claudia-neumann.com/events/herbstlicht-stille-yoga-tagesre
 treat-in-muenchen-pasing/
SUMMARY:Herbstlicht & Stille Yoga-Tagesretreat in München Pasing
DESCRIPTION:\n🍂Herbstlicht &amp\; Stille – Im Wandel vom Tun zum Sein 
 Sonntag 23. November 2025\n10-16 Uhr\, Happy Mind Yoga\, Studio Pasing\n\n
 \nWenn das Licht sanfter wird\, die Tage kürzer und die Natur sich langsa
 m zurückzieht\, lädt uns der Spätherbst ein\, still zu werden. Es ist d
 ie Zeit\, innezuhalten\, zu sortieren\, was bleiben darf – und loszulass
 en\, was wir nicht mehr tragen wollen.\nDieses Yoga Day Retreat ist eine b
 ewusste Einladung\, den Übergang vom Außen ins Innen zu gestalten. Zwisc
 hen klarer Bewegung und tiefer Ruhe\, zwischen ehrlicher Reflexion und hei
 lsamer Stille findest du an diesem Tag Raum für dich.\nAm Vormittag erwar
 tet dich eine kraftvolle\, energetisierende Yogapraxis mit Stephanie\, die
  dich mit deinem Körper und Atem verbindet. Sie schafft Klarheit und brin
 gt dich in Bewegung – nicht um zu leisten\, sondern um wieder zu spüren
 : Du bist da. Du bist lebendig. Du bist genug.\nIm Anschluss folgt eine Re
 flexions- und Journaling-Session\, in der du erforschen darfst\, was dich 
 im Alltag antreibt – und was du liebevoll loslassen möchtest. \nEin ge
 meinsames Mittagessen gibt Raum für Austausch\, Verbindung oder stille In
 tegration – ganz\, wie es dir guttut.\nAm Nachmittag öffnet sich der Ra
 um für das Loslassen. Wir tauchen wir tief in die Stille ein – mit ein
 er Kombination aus Yin Yoga und Yoga Nidra\, begleitet von den sanften\, s
 phärischen Klängen der Handpan mit Claudia &amp\; Alex.\nIm Yin Yoga ve
 rweilst du länger in ruhigen\, gehaltenen Positionen\, die Faszien\, Gele
 nke und Bänder sanft dehnen und das Nervensystem beruhigen. Anschließend
  führt dich Yoga Nidra\, der yogische Schlaf\, in eine tiefe\, geführte 
 Entspannung – ein Zustand zwischen Wachen und Träumen\, in dem Körper 
 und Geist vollkommen loslassen dürfen. Die live gespielte Handpan begleit
 et dich dabei mit ihren sanften\, vibrierenden Klängen – ein Sound\, de
 r die Stille noch spürbarer macht und Herz und Seele berührt.\nEin Tag\,
  der dich einlädt\, nicht mehr zu funktionieren – sondern einfach zu se
 in.​\nWas dich erwartet:\n\n 	\nAnkommen in Ruhe: Begrüßung mit Tee \
 n\n 	\nAktivierende Yogapraxis: Eine fließende\, stärkende Yoga-Session 
 am Morgen (75–90 Minuten)\n\n 	\nGemeinsamer Lunch (nicht inkludiert) \
 n\n 	\nPersönlichkeitsentwicklung: Thema „Im Wandel vom Tun zum Sein
 “ – mit einer achtsamen\, therapeutisch begleiteten Reflexionsübung\
 , die dich einlädt\, innezuhalten und zu erforschen\, was dich im Alltag 
 antreibt\, was du festhältst – und was geschehen darf\, wenn du dir erl
 aubst\, einfach zu sein. Du wirst eingeladen\, deine inneren Antreiber\, B
 edürfnisse und ungehörten Sehnsüchte liebevoll wahrzunehmen und ihnen R
 aum zu geben – jenseits von Funktion und Anspruch.\n\n 	\nSharing Circle
 : Offener\, inspirierender Austausch im Frauenkreis – ehrlich\, verbinde
 nd\, stärkend\n\n 	\nSanfte Yogapraxis: Regenerierender Ausklang für dei
 n Nervensystem​​\n\n\nFür wen ist dieses Retreat?\nFür Menschen\, di
 e sich nach einer echten Pause sehnen. Die den Wunsch verspüren\, wieder 
 in Verbindung mit sich selbst zu kommen – sanft\, ehrlich\, präsent. Yo
 ga-Vorerfahrung ist hilfreich\, aber nicht notwendig. Offenheit genügt.\n
 Wir freuen uns auf dich!​\n\n
ATTACH;FMTTYPE=image/jpeg:https://www.claudia-neumann.com/wp-content/uploa
 ds/2025/11/IMG_59872-scaled.jpeg
CATEGORIES:Events,Retreat
LOCATION:Happy Mind Yoga Studio Pasing\, Landsberger Str. 511\, 81241 Münc
 hen\, Landsberger Str. 511\, München\, 81241\, Bayern\, Deutschland
X-APPLE-STRUCTURED-LOCATION;VALUE=URI;X-ADDRESS=Landsberger Str. 511\, Mün
 chen\, 81241\, Bayern\, Deutschland;X-APPLE-RADIUS=100;X-TITLE=Happy Mind 
 Yoga Studio Pasing\, Landsberger Str. 511\, 81241 München:geo:0,0
END:VEVENT
BEGIN:VTIMEZONE
TZID:Europe/Berlin
X-LIC-LOCATION:Europe/Berlin
BEGIN:STANDARD
DTSTART:20251026T020000
TZOFFSETFROM:+0200
TZOFFSETTO:+0100
TZNAME:CET
END:STANDARD
END:VTIMEZONE
END:VCALENDAR