BEGIN:VCALENDAR
VERSION:2.0
PRODID:-//wp-events-plugin.com//7.0.5//EN
BEGIN:VEVENT
UID:306@claudia-neumann.com
DTSTART;TZID=Europe/Berlin:20250701T100000
DTEND;TZID=Europe/Berlin:20250701T104500
DTSTAMP:20250702T084455Z
URL:https://www.claudia-neumann.com/events/lunch-pilates/
SUMMARY:Lunch Pilates
DESCRIPTION:Dein kraftvoller Start in den Tag! In diesem Kurs trainieren wi
 r die Tiefenmuskulatur des gesamten Körpers\, verbessern die Körperhalt
 ungen und gehen in sanfte Dehnungen um mehr Beweglichkeit im Körper zu e
 rmöglichen. Mit gezielten Übungen stärken wir die Körpermitte und sorg
 en für mehr Stabilität und Kraft aus dem Zentrum.\n\nPilates hilft nich
 t nur dabei\, Verspannungen zu lösen und Rückenbeschwerden vorzubeugen\,
  sondern verbessert auch deine Koordination und Körperwahrnehmung. Ganz n
 ebenbei fühlst du dich nach jeder Einheit erfrischt und voller Energie. P
 erfekt vorbereitet für deinen Tag:-)\n\nOffen für alle Level.\n\nBitte m
 itbringen: Gerne bringe bequeme Kleidung mit und deine eigene Matte. Weit
 ere Hilfsmittel findest Du vor Ort.\n\nBuchen kannst du über Eversports: 
 https://www.eversports.de/activity/74719aca-fdb3-43df-8fd1-78651ca71d12
ATTACH;FMTTYPE=image/jpeg:https://www.claudia-neumann.com/wp-content/uploa
 ds/2025/06/Pilates-Salon-de-Shakti-rotated.jpg
CATEGORIES:Yogakurs
LOCATION:Salon de Shakti\, Arcisstraße 55\, München\, 80799\, Deutschland
X-APPLE-STRUCTURED-LOCATION;VALUE=URI;X-ADDRESS=Arcisstraße 55\, München\
 , 80799\, Deutschland;X-APPLE-RADIUS=100;X-TITLE=Salon de Shakti:geo:0,0
END:VEVENT
BEGIN:VTIMEZONE
TZID:Europe/Berlin
X-LIC-LOCATION:Europe/Berlin
BEGIN:DAYLIGHT
DTSTART:20250330T030000
TZOFFSETFROM:+0100
TZOFFSETTO:+0200
TZNAME:CEST
END:DAYLIGHT
END:VTIMEZONE
END:VCALENDAR