BEGIN:VCALENDAR
VERSION:2.0
PRODID:-//wp-events-plugin.com//7.0.5//EN
BEGIN:VEVENT
UID:272@claudia-neumann.com
DTSTART;TZID=Europe/Berlin:20260220T071500
DTEND;TZID=Europe/Berlin:20260220T081500
DTSTAMP:20251113T160440Z
URL:https://www.claudia-neumann.com/events/morning-flow-2-2026-02-20/
SUMMARY:Morning Flow
DESCRIPTION:Eine Yoga Klasse\, die aus Dynamik\, Atmung und Meditation sch
 öpft. Die perfekte Kraftquelle für deinen Morgen.\n\nFalls du nicht bei 
 Kali &amp\; Friends in München-Sendling dabei sein kannst\, hast du auch 
 die Möglichkeit online ganz bequem von zu Hause teilzunehmen. Den Link be
 kommst du nach der Anmeldung.\n\nBuchen kannst du direkt hier oder über E
 versports: https://www.eversports.de/activity/74719aca-fdb3-43df-8fd1-7865
 1ca71d12
ATTACH;FMTTYPE=image/jpeg:https://www.claudia-neumann.com/wp-content/uploa
 ds/2025/06/Kali-Friends-Studio.webp
CATEGORIES:Yogakurs
LOCATION:Kali & Friends\, Aberlestraße 9\, München\, 81371\, Deutschland
X-APPLE-STRUCTURED-LOCATION;VALUE=URI;X-ADDRESS=Aberlestraße 9\, München\
 , 81371\, Deutschland;X-APPLE-RADIUS=100;X-TITLE=Kali & Friends:geo:0,0
END:VEVENT
BEGIN:VTIMEZONE
TZID:Europe/Berlin
X-LIC-LOCATION:Europe/Berlin
BEGIN:STANDARD
DTSTART:20251026T020000
TZOFFSETFROM:+0200
TZOFFSETTO:+0100
TZNAME:CET
END:STANDARD
END:VTIMEZONE
END:VCALENDAR