BEGIN:VCALENDAR
VERSION:2.0
PRODID:-//wp-events-plugin.com//7.0.5//EN
BEGIN:VEVENT
UID:408@claudia-neumann.com
DTSTART;TZID=Europe/Berlin:20251125T073000
DTEND;TZID=Europe/Berlin:20251125T083000
DTSTAMP:20251124T143902Z
URL:https://www.claudia-neumann.com/events/morning-flow-3-2025-11-25/
SUMMARY:Morning Flow
DESCRIPTION:Starte deinen Tag achtsam\, kraftvoll und voller Leichtigkeit. 
 Der Yoga Morning Flow verbindet sanfte Mobilisation\, fließende Bewegunge
 n und bewusste Atemführung zu einer harmonischen Praxis\, die Körper und
  Geist gleichermaßen weckt.\nIn dieser Stunde aktivierst du deinen Kreisl
 auf\, löst Verspannungen nach dem Schlaf und schaffst Raum für Klarheit 
 und Fokus. Der Flow eignet sich für alle Level – egal\, ob du frisch in
 s Yoga einsteigst oder deine bestehende Praxis vertiefen möchtest.\nNimm 
 dir Zeit für dich – und starte mit neuer Energie\, Balance und Positivi
 tät in den Tag.\nBuchen kannst du hier: https://www.eversports.de/activit
 y/671456ef-9fc3-4a23-b61d-d302f7e8c802
CATEGORIES:Yogakurs
LOCATION:Om und Company\, Ohlmüllerstraße 19\, München\, 81541\, Deutsch
 land
X-APPLE-STRUCTURED-LOCATION;VALUE=URI;X-ADDRESS=Ohlmüllerstraße 19\, Mün
 chen\, 81541\, Deutschland;X-APPLE-RADIUS=100;X-TITLE=Om und Company:geo:0
 ,0
END:VEVENT
BEGIN:VTIMEZONE
TZID:Europe/Berlin
X-LIC-LOCATION:Europe/Berlin
BEGIN:STANDARD
DTSTART:20251026T020000
TZOFFSETFROM:+0200
TZOFFSETTO:+0100
TZNAME:CET
END:STANDARD
END:VTIMEZONE
END:VCALENDAR