BEGIN:VCALENDAR
VERSION:2.0
PRODID:-//wp-events-plugin.com//7.0.5//EN
BEGIN:VEVENT
UID:145@claudia-neumann.com
DTSTART;TZID=Europe/Berlin:20251112T071500
DTEND;TZID=Europe/Berlin:20251112T081500
DTSTAMP:20251116T195744Z
URL:https://www.claudia-neumann.com/events/morning-pilates-stretch-2025-11
 -12/
SUMMARY:Morning Pilates & Stretch
DESCRIPTION:Dein kraftvoller Start in den Tag! In diesem Kurs trainieren wi
 r die Tiefenmuskulatur des gesamten Körpers\, verbessern die Körperhalt
 ungen und gehen in sanfte Dehnungen um mehr Beweglichkeit im Körper zu e
 rmöglichen. Mit gezielten Übungen stärken wir die Körpermitte und sorg
 en für mehr Stabilität und Kraft aus dem Zentrum.\n\nPilates hilft nich
 t nur dabei\, Verspannungen zu lösen und Rückenbeschwerden vorzubeugen\,
  sondern verbessert auch deine Koordination und Körperwahrnehmung. Ganz n
 ebenbei fühlst du dich nach jeder Einheit erfrischt und voller Energie. P
 erfekt vorbereitet für deinen Tag:-)\n\nOffen für alle Level.\n\nBitte m
 itbringen: Gerne bringe bequeme Kleidung mit und wenn du hast deine eigen
 e Matte. Matten und alle weiteren Hilfsmittel findest Du vor Ort.\n\nBuche
 n kannst du über Eversports: https://www.eversports.de/activity/74719aca-
 fdb3-43df-8fd1-78651ca71d12
CATEGORIES:Yogakurs
LOCATION:Velvet House\, Eintrachtstraße 8\, München\, 81541\, Deutschland
X-APPLE-STRUCTURED-LOCATION;VALUE=URI;X-ADDRESS=Eintrachtstraße 8\, Münch
 en\, 81541\, Deutschland;X-APPLE-RADIUS=100;X-TITLE=Velvet House:geo:0,0
END:VEVENT
BEGIN:VTIMEZONE
TZID:Europe/Berlin
X-LIC-LOCATION:Europe/Berlin
BEGIN:STANDARD
DTSTART:20251026T020000
TZOFFSETFROM:+0200
TZOFFSETTO:+0100
TZNAME:CET
END:STANDARD
END:VTIMEZONE
END:VCALENDAR