BEGIN:VCALENDAR
VERSION:2.0
PRODID:-//wp-events-plugin.com//7.0.5//EN
BEGIN:VEVENT
UID:771@claudia-neumann.com
DTSTART;TZID=Europe/Berlin:20261104T123000
DTEND;TZID=Europe/Berlin:20261104T130000
DTSTAMP:20260422T153946Z
URL:https://www.claudia-neumann.com/events/progressive-muskelentspannung-o
 nline-2026-05-06-2026-05-20-2026-06-03-2026-06-17-2026-07-01-2026-07-15-20
 26-07-29-2026-08-12-2026-08-26-2026-09-09-2026-09-23-2026-10-07-2026-10-21
 -2026-11-04/
SUMMARY:Progressive Muskelentspannung (online)
DESCRIPTION:Die 30-minütige Online-Session zur Progressiven Muskelentspann
 ung hilft dabei\, Stress gezielt abzubauen und körperliche sowie mentale 
 Ruhe zu finden. Durch das bewusste An- und Entspannen einzelner Muskelgrup
 pen wird die Wahrnehmung für den eigenen Körper geschärft und tiefe Ent
 spannung gefördert.\nDie Einheit lässt sich bequem vom Arbeitsplatz oder
  im Homeoffice aus durchführen und erfordert keine Vorkenntnisse. Ideal f
 ür eine bewusste Pause im Arbeitsalltag\, um neue Energie zu tanken\, die
  Konzentration zu steigern und langfristig das Wohlbefinden zu stärken.\n
 Wenn du einmal dabei sein möchtest\, schreib mir gerne für den Zoom-Link
 .
CATEGORIES:Yogakurs
END:VEVENT
BEGIN:VTIMEZONE
TZID:Europe/Berlin
X-LIC-LOCATION:Europe/Berlin
BEGIN:STANDARD
DTSTART:20261025T020000
TZOFFSETFROM:+0200
TZOFFSETTO:+0100
TZNAME:CET
END:STANDARD
END:VTIMEZONE
END:VCALENDAR