BEGIN:VCALENDAR
VERSION:2.0
PRODID:-//wp-events-plugin.com//7.0.5//EN
BEGIN:VEVENT
UID:729@claudia-neumann.com
DTSTART;TZID=Europe/Berlin:20261014T114500
DTEND;TZID=Europe/Berlin:20261014T121500
DTSTAMP:20260422T153426Z
URL:https://www.claudia-neumann.com/events/rueckentraining-online-2026-04-
 29-2026-05-06-2026-05-13-2026-05-20-2026-05-27-2026-06-03-2026-06-10-2026-
 06-17-2026-06-24-2026-07-01-2026-07-08-2026-07-15-2026-07-22-2026-07-29-20
 26-08-0-07-2026-10-14/
SUMMARY:Rückentraining (online)
DESCRIPTION:Mein Online-Rückentraining für Unternehmen unterstützt Mitar
 beitende dabei\, Rückenbeschwerden vorzubeugen und bestehende Verspannung
 en gezielt zu lösen – ganz bequem vom Arbeitsplatz oder im Homeoffice. 
 In den angeleiteten Live-Einheiten werden effektive Übungen zur Kräftigu
 ng der Muskulatur\, Verbesserung der Haltung und Förderung der Beweglichk
 eit vermittelt.\nDas Training ist speziell auf die Anforderungen moderner 
 Büroarbeit abgestimmt und lässt sich ohne großen Aufwand in den Arbeits
 alltag integrieren. Bereits kurze Einheiten sorgen für mehr Wohlbefinden\
 , steigern die Konzentration und tragen langfristig zu einer gesünderen\,
  leistungsfähigeren Belegschaft bei.\nWenn du einmal dabei sein möchtest
 \, schreib mir gerne für den Zoom-Link.
CATEGORIES:Yogakurs
END:VEVENT
BEGIN:VTIMEZONE
TZID:Europe/Berlin
X-LIC-LOCATION:Europe/Berlin
BEGIN:DAYLIGHT
DTSTART:20260329T030000
TZOFFSETFROM:+0100
TZOFFSETTO:+0200
TZNAME:CEST
END:DAYLIGHT
END:VTIMEZONE
END:VCALENDAR