BEGIN:VCALENDAR
VERSION:2.0
PRODID:-//wp-events-plugin.com//7.0.5//EN
BEGIN:VEVENT
UID:308@claudia-neumann.com
DTSTART;TZID=Europe/Berlin:20250719T180000
DTEND;TZID=Europe/Berlin:20250719T193000
DTSTAMP:20250708T155140Z
URL:https://www.claudia-neumann.com/events/somatic-dance/
SUMMARY:Somatic Dance
DESCRIPTION:Eine begleitete Freiform-Tanzreise\, in der wir die Schichten u
 nseres Körpers erforschen. Einladende Worte und eine sorgfältig ausgewä
 hlte Soundlandschaft laden dich ein\, wieder mehr im Körper\, in der Bewe
 gung und im Tanz anzukommen. Ein Raum\, in dem wir uns achtsam und bewertu
 ngsfrei begegnen\, indem wir mit dem sein dürfen\, was da ist. Du wirst d
 azu eingeladen Verrücktheit\, Wildheit\, Sinnlichkeit\, Stille\, Lachen\,
  Schreien\, Laut sein\, Kindlichkeit und alles\, was auftauchen mag\, da s
 ein zu lassen\, um deinen eigenen\, einzigartigen Ausdruck in der Fülle d
 ieser Tanzreise zu finden.\n\nDen 1. Geburtstag des Salon de Shakti Yogast
 udios am Kochelsee zelebrieren wir mit euch beim Lago di Love Festival. Ic
 h freue mich sehr mit auf die Reise zu nehmen für einen Somatic Dance im 
 großen Festsaal des Kloster Schlehdorf.\n\nTickets für das Festival beko
 mmst du hier: https://www.eversports.de/activity/a2aafed4-bdf9-4d8b-8377-5
 1bfc0fd9ec4
ATTACH;FMTTYPE=image/jpeg:https://www.claudia-neumann.com/wp-content/uploa
 ds/2025/06/Yoga-United-Festival-CNY-Lehrer-scaled.jpg
CATEGORIES:Somatic Dance
LOCATION:Lago di Love Festival\, Kirchstraße 9\, Schlehdorf\, 82444\, Deut
 schland
X-APPLE-STRUCTURED-LOCATION;VALUE=URI;X-ADDRESS=Kirchstraße 9\, Schlehdorf
 \, 82444\, Deutschland;X-APPLE-RADIUS=100;X-TITLE=Lago di Love Festival:ge
 o:0,0
END:VEVENT
BEGIN:VTIMEZONE
TZID:Europe/Berlin
X-LIC-LOCATION:Europe/Berlin
BEGIN:DAYLIGHT
DTSTART:20250330T030000
TZOFFSETFROM:+0100
TZOFFSETTO:+0200
TZNAME:CEST
END:DAYLIGHT
END:VTIMEZONE
END:VCALENDAR