BEGIN:VCALENDAR
VERSION:2.0
PRODID:-//wp-events-plugin.com//7.0.5//EN
BEGIN:VEVENT
UID:525@claudia-neumann.com
DTSTART;TZID=Europe/Berlin:20260408T191500
DTEND;TZID=Europe/Berlin:20260408T201500
DTSTAMP:20260120T081503Z
URL:https://www.claudia-neumann.com/events/somatic-flow-3-2026-01-14-2026-
 01-21-2026-01-28-2026-02-04-2026-02-11-2026-02-18-2026-02-25-2026-03-04-20
 26-03-11-2026-03-18-2026-03-25-2026-04-01-2026-04-08/
SUMMARY:Somatic Flow
DESCRIPTION:Somatic Flow ist eine entspannende und bewusste Bewegungsform\,
  die sich auf die Verbindung zwischen Körper und Geist konzentriert. Dabe
 i werden sanfte\, fließende Bewegungen genutzt\, um Spannungen im Körper
  zu lösen\, die Körperwahrnehmung zu verbessern und das Nervensystem zu 
 beruhigen. Der Fokus liegt auf achtsamer\, innerer Erfahrung und dem Erleb
 en der eigenen Bewegungen\, oft begleitet von Atemübungen. Somatic Flow k
 ann helfen\, Verspannungen abzubauen\, die Flexibilität zu erhöhen und d
 as allgemeine Wohlbefinden zu steigern. Es ist eine wunderbare Praxis\, um
  mehr Achtsamkeit im Alltag zu entwickeln und den Körper auf sanfte Weise
  zu entspannen.\n\nBuchen kannst du diese Stunde direkt über's Studio: h
 ttps://www.eversports.de/activity/c39750ac-6a7d-4601-96ea-2c49a30ee49d
ATTACH;FMTTYPE=image/jpeg:https://www.claudia-neumann.com/wp-content/uploa
 ds/2025/07/Somatic-Flow-Velvet-House-scaled.jpg
CATEGORIES:Yogakurs
LOCATION:Velvet House\, Eintrachtstraße 8\, München\, 81541\, Deutschland
X-APPLE-STRUCTURED-LOCATION;VALUE=URI;X-ADDRESS=Eintrachtstraße 8\, Münch
 en\, 81541\, Deutschland;X-APPLE-RADIUS=100;X-TITLE=Velvet House:geo:0,0
END:VEVENT
BEGIN:VTIMEZONE
TZID:Europe/Berlin
X-LIC-LOCATION:Europe/Berlin
BEGIN:DAYLIGHT
DTSTART:20260329T030000
TZOFFSETFROM:+0100
TZOFFSETTO:+0200
TZNAME:CEST
END:DAYLIGHT
END:VTIMEZONE
END:VCALENDAR