BEGIN:VCALENDAR
VERSION:2.0
PRODID:-//wp-events-plugin.com//7.0.5//EN
BEGIN:VEVENT
UID:668@claudia-neumann.com
DTSTART;TZID=Europe/Berlin:20260125T170000
DTEND;TZID=Europe/Berlin:20260125T180000
DTSTAMP:20260122T174837Z
URL:https://www.claudia-neumann.com/events/sunday-flow/
SUMMARY:Sunday Flow
DESCRIPTION:Yoga Flow – 60 Min\n\nIn dieser Yoga-Klasse verbinden wir fl
 ießende Sequenzen und das bewusste Halten von Asanas mit deinem Atem und
  schaffen so einen Flow\, der dich ganz ins Hier und Jetzt holt. Jede Stun
 de steht unter einem bestimmten Fokus – körperlich oder energetisch 
 – der die körperliche Praxis inspiriert und vertieft\, somit geht diese
  Stunde auch über die reine körperliche Praxis hinaus und hilft dir dich
  auch innerlich auszurichten.\n\nFlow ist perfekt für dich\, wenn du tief
 er gehen möchtest: raus aus dem Kopf\, rein ins Spüren– für mehr inne
 re Balance\, neues Körperbewusstsein und Erfahrungen mit dir selbst.\n\nB
 itte mitbringen: Gerne bringe bequeme Kleidung mit und\, wenn du hast\, d
 eine eigene Matte. Matten und alle weiteren Hilfsmittel findest Du vor Ort
 .\n\nWir stehen für dich vor Ort ab 15 Minuten vor dem Start der Klasse z
 um Check In bereit. Wir bitten dich bis spätestens fünf Minuten vor dem 
 Start der Stunde da zu sein\, damit wir pünktlich starten können\, die L
 ehrerin alle pünktlich einchecken kann und niemand gestört wird. Bitte b
 eachte\, dass wir nicht gewährleisten können\, dass jemand\, der zu spä
 t kommt\, noch an der Stunde teilnehmen kann.\n\nMehr Infos und buchen kan
 nst du hier.
LOCATION:Om und Company\, Ohlmüllerstraße 19\, München\, 81541\, Deutsch
 land
X-APPLE-STRUCTURED-LOCATION;VALUE=URI;X-ADDRESS=Ohlmüllerstraße 19\, Mün
 chen\, 81541\, Deutschland;X-APPLE-RADIUS=100;X-TITLE=Om und Company:geo:0
 ,0
END:VEVENT
BEGIN:VTIMEZONE
TZID:Europe/Berlin
X-LIC-LOCATION:Europe/Berlin
BEGIN:STANDARD
DTSTART:20251026T020000
TZOFFSETFROM:+0200
TZOFFSETTO:+0100
TZNAME:CET
END:STANDARD
END:VTIMEZONE
END:VCALENDAR