BEGIN:VCALENDAR
VERSION:2.0
PRODID:-//wp-events-plugin.com//7.0.5//EN
BEGIN:VEVENT
UID:666@claudia-neumann.com
DTSTART;TZID=Europe/Berlin;VALUE=DATE:20260307
DTEND;TZID=Europe/Berlin;VALUE=DATE:20260322
DTSTAMP:20260120T084224Z
URL:https://www.claudia-neumann.com/events/winter-growcation/
SUMMARY:Winter Growcation
DESCRIPTION:Stell dir vor …\n\nDu sitzt in einem Chalet.\nDraußen die Be
 rge\, drinnen Wärme\, Ruhe und echte Verbindung.\n\nUm dich herum Mensche
 n\, die ähnlich fühlen und denken wie du.\nIhr arbeitet fokussiert zusam
 men\, tauscht euch aus\, lernt voneinander –\nehrlich\, offen\, auf Auge
 nhöhe.\n\n✨ In unseren Workshops geht es um mehr als nur Business:\n
 🧠 Arbeit mit dem inneren Kind– alte Muster lösen\, innere Sicherheit
  aufbauen\n🔥 Intrinsische Motivation– wieder spüren\, warum du tust\
 , was du tust\n📱 Social Media &amp\; Sichtbarkeit im Business – authe
 ntisch sichtbar werden\, ohne dich zu verbiegen\n🌱 Persönliches &amp\;
  berufliches Wachstum\, das sich wirklich stimmig anfühlt\n\nNach der Arb
 eit geht’s gemeinsam auf die Piste 🎿\nOder in die Sauna 🔥\nZeit zu
 m Erleben\, Lachen\, Ankommen.\n\n✨ Das ist unsere Growcation.\nSki\, Co
 working\, Wellness\, Yoga &amp\; echte Begegnungen\n📍 Zillertal | 07.03
 .–21.03.2026\n\n👉 Spürst du\, dass genau das gerade zu dir passt?\n\
 nMehr Infos dazu findest du auf dem Insta Profil von Remote Friends:\n\nht
 tps://www.instagram.com/remotefriends_?utm_source=ig_web_button_share_shee
 t&amp\;igsh=ZDNlZDc0MzIxNw==
CATEGORIES:Events,Retreat
LOCATION:Das Wiesegg\, Mandlerstraße 1\, Fügenberg\, 6264\, Zillertal\, 
 Österreich
X-APPLE-STRUCTURED-LOCATION;VALUE=URI;X-ADDRESS=Mandlerstraße 1\, Fügenbe
 rg\, 6264\, Zillertal\, Österreich;X-APPLE-RADIUS=100;X-TITLE=Das Wiesegg
 :geo:0,0
END:VEVENT
BEGIN:VTIMEZONE
TZID:Europe/Berlin
X-LIC-LOCATION:Europe/Berlin
BEGIN:STANDARD
DTSTART:20251026T020000
TZOFFSETFROM:+0200
TZOFFSETTO:+0100
TZNAME:CET
END:STANDARD
END:VTIMEZONE
END:VCALENDAR