BEGIN:VCALENDAR
VERSION:2.0
PRODID:-//wp-events-plugin.com//7.0.5//EN
BEGIN:VEVENT
UID:412@claudia-neumann.com
DTSTART;TZID=Europe/Berlin:20251207T190000
DTEND;TZID=Europe/Berlin:20251207T200000
DTSTAMP:20251205T134347Z
URL:https://www.claudia-neumann.com/events/yin-yoga-live-handpan/
SUMMARY:Yin Yoga & live Handpan
DESCRIPTION:Tauche ein in eine tief entspannende Mischung aus sanftem Yin Y
 oga und berührender Handpan-Live-Musik. In dieser achtsamen Praxis verbin
 den sich ruhige\, lang gehaltene Positionen mit warmen\, vibrierenden Klä
 ngen\, die Körper und Geist in einen Zustand tiefer Ruhe führen. Lass di
 ch tragen\, entschleunige und finde zurück zu deiner inneren Balance.\n\n
 Buchen kannst du hier: https://www.eversports.de/activity/e07e6abf-5e0b-4
 9db-a2cf-a0f0b3734208
CATEGORIES:Events,Yogakurs
LOCATION:Velvet House\, Eintrachtstraße 8\, München\, 81541\, Deutschland
X-APPLE-STRUCTURED-LOCATION;VALUE=URI;X-ADDRESS=Eintrachtstraße 8\, Münch
 en\, 81541\, Deutschland;X-APPLE-RADIUS=100;X-TITLE=Velvet House:geo:0,0
END:VEVENT
BEGIN:VTIMEZONE
TZID:Europe/Berlin
X-LIC-LOCATION:Europe/Berlin
BEGIN:STANDARD
DTSTART:20251026T020000
TZOFFSETFROM:+0200
TZOFFSETTO:+0100
TZNAME:CET
END:STANDARD
END:VTIMEZONE
END:VCALENDAR