BEGIN:VCALENDAR
VERSION:2.0
PRODID:-//wp-events-plugin.com//7.0.5//EN
BEGIN:VEVENT
UID:665@claudia-neumann.com
DTSTART;TZID=Europe/Berlin:20260329T130000
DTEND;TZID=Europe/Berlin:20260329T160000
DTSTAMP:20260120T082918Z
URL:https://www.claudia-neumann.com/events/yoga-paint/
SUMMARY:Yoga & Paint
DESCRIPTION:Erlebe eine kreative Auszeit in München: Wir fließen gemeinsa
 m durch Meditation\, Yoga und eine intuitive Malsession mit Acrylfarben. D
 abei erschaffst du dein eigenes abstraktes Kunstwerk – ganz ohne Vorkenn
 tnisse.\n\nInklusive:\n\n 	Geführte Yoga-\, Meditations- &amp\; Mal-Einhe
 it mit Yogalehrerin &amp\; Künstlerin\n 	Leinwand\, Farben &amp\; Nutzung
  der Yogamatten und des Zubehörs\n 	Alle Materialien\n\nHinweis:\nBitte t
 rage Kleidung\, die Farbspritzer verträgt. \n✨ Make your mind the mos
 t beautiful thing about you. ✨\n\nZur Buchung:\nhttps://www.yavo-yoga-a
 rt.de/products/yoga-paint-event-sa-28-03-munchen
CATEGORIES:Events,Yogakurs
LOCATION:Velvet House\, Eintrachtstraße 8\, München\, 81541\, Deutschland
X-APPLE-STRUCTURED-LOCATION;VALUE=URI;X-ADDRESS=Eintrachtstraße 8\, Münch
 en\, 81541\, Deutschland;X-APPLE-RADIUS=100;X-TITLE=Velvet House:geo:0,0
END:VEVENT
BEGIN:VTIMEZONE
TZID:Europe/Berlin
X-LIC-LOCATION:Europe/Berlin
BEGIN:DAYLIGHT
DTSTART:20260329T030000
TZOFFSETFROM:+0100
TZOFFSETTO:+0200
TZNAME:CEST
END:DAYLIGHT
END:VTIMEZONE
END:VCALENDAR